BEGIN:VCALENDAR
VERSION:2.0
PRODID:-//FPJUDÔ - ECPv6.5.1.5//NONSGML v1.0//EN
CALSCALE:GREGORIAN
METHOD:PUBLISH
X-ORIGINAL-URL:https://fpj.com.br
X-WR-CALDESC:Eventos para FPJUDÔ
REFRESH-INTERVAL;VALUE=DURATION:PT1H
X-Robots-Tag:noindex
X-PUBLISHED-TTL:PT1H
BEGIN:VTIMEZONE
TZID:America/Sao_Paulo
BEGIN:STANDARD
TZOFFSETFROM:-0300
TZOFFSETTO:-0300
TZNAME:-03
DTSTART:20240101T000000
END:STANDARD
END:VTIMEZONE
BEGIN:VEVENT
DTSTART;VALUE=DATE:20240504
DTEND;VALUE=DATE:20240505
DTSTAMP:20260419T114517
CREATED:20240205T211500Z
LAST-MODIFIED:20240205T224113Z
UID:67136-1714780800-1714867199@fpj.com.br
SUMMARY:CAMPEONATO PAULISTA FASE FINAL SUB-18
DESCRIPTION:
URL:https://fpj.com.br/calendario/campeonato-paulista-fase-final-sub-18/
LOCATION:SP
CATEGORIES:Competição
END:VEVENT
BEGIN:VEVENT
DTSTART;VALUE=DATE:20240505
DTEND;VALUE=DATE:20240506
DTSTAMP:20260419T114517
CREATED:20240205T221344Z
LAST-MODIFIED:20240205T224131Z
UID:67231-1714867200-1714953599@fpj.com.br
SUMMARY:TORNEIO JUDÔ MAKOTO - 15ª DR
DESCRIPTION:
URL:https://fpj.com.br/calendario/torneio-judo-makoto-15a-dr/
LOCATION:Jarinu – SP\, Jarinu\, SP\, Brasil
CATEGORIES:Competição
END:VEVENT
BEGIN:VEVENT
DTSTART;VALUE=DATE:20240511
DTEND;VALUE=DATE:20240512
DTSTAMP:20260419T114517
CREATED:20240205T211523Z
LAST-MODIFIED:20240205T224146Z
UID:67138-1715385600-1715471999@fpj.com.br
SUMMARY:CAMPEONATO PAULISTA FASE FINAL SUB-18
DESCRIPTION:
URL:https://fpj.com.br/calendario/campeonato-paulista-fase-final-sub-18-2/
LOCATION:SP
CATEGORIES:Competição
END:VEVENT
BEGIN:VEVENT
DTSTART;VALUE=DATE:20240518
DTEND;VALUE=DATE:20240519
DTSTAMP:20260419T114517
CREATED:20240205T211620Z
LAST-MODIFIED:20240205T224159Z
UID:67140-1715990400-1716076799@fpj.com.br
SUMMARY:CBI: TAÇA BRASIL DE JUDÔ SUB-21
DESCRIPTION:
URL:https://fpj.com.br/calendario/cbi-taca-brasil-de-judo-sub-21/
LOCATION:Curitiba – PR\, Curitiba\, PR\, Brasil
CATEGORIES:Competição
END:VEVENT
BEGIN:VEVENT
DTSTART;VALUE=DATE:20240518
DTEND;VALUE=DATE:20240519
DTSTAMP:20260419T114517
CREATED:20240205T211704Z
LAST-MODIFIED:20240205T232315Z
UID:67142-1715990400-1716076799@fpj.com.br
SUMMARY:OPEN AJINOMOTO - ASPIRANTE
DESCRIPTION:
URL:https://fpj.com.br/calendario/open-ajinomoto-aspirante/
LOCATION:SP
CATEGORIES:Competição
END:VEVENT
BEGIN:VEVENT
DTSTART;VALUE=DATE:20240519
DTEND;VALUE=DATE:20240520
DTSTAMP:20260419T114517
CREATED:20240205T211735Z
LAST-MODIFIED:20240205T224222Z
UID:67144-1716076800-1716163199@fpj.com.br
SUMMARY:OPEN CORINTHIANS
DESCRIPTION:
URL:https://fpj.com.br/calendario/open-corinthians/
LOCATION:SP
CATEGORIES:Competição
END:VEVENT
BEGIN:VEVENT
DTSTART;VALUE=DATE:20240525
DTEND;VALUE=DATE:20240526
DTSTAMP:20260419T114517
CREATED:20240205T211813Z
LAST-MODIFIED:20240205T224236Z
UID:67146-1716595200-1716681599@fpj.com.br
SUMMARY:COPA RIO GRANDE DO SUL DE JUDÔ
DESCRIPTION:
URL:https://fpj.com.br/calendario/copa-rio-grande-do-sul-de-judo/
LOCATION:SP
CATEGORIES:Competição
END:VEVENT
BEGIN:VEVENT
DTSTART;VALUE=DATE:20240525
DTEND;VALUE=DATE:20240526
DTSTAMP:20260419T114517
CREATED:20240205T211840Z
LAST-MODIFIED:20240205T224248Z
UID:67148-1716595200-1716681599@fpj.com.br
SUMMARY:CAMPEONATO PAULISTA POR FAIXAS
DESCRIPTION:
URL:https://fpj.com.br/calendario/campeonato-paulista-por-faixas/
LOCATION:SP
CATEGORIES:Competição
END:VEVENT
END:VCALENDAR