BEGIN:VCALENDAR
VERSION:2.0
PRODID:-//FPJUDÔ - ECPv6.5.1.5//NONSGML v1.0//EN
CALSCALE:GREGORIAN
METHOD:PUBLISH
X-ORIGINAL-URL:https://fpj.com.br
X-WR-CALDESC:Eventos para FPJUDÔ
REFRESH-INTERVAL;VALUE=DURATION:PT1H
X-Robots-Tag:noindex
X-PUBLISHED-TTL:PT1H
BEGIN:VTIMEZONE
TZID:America/Sao_Paulo
BEGIN:STANDARD
TZOFFSETFROM:-0300
TZOFFSETTO:-0300
TZNAME:-03
DTSTART:20240101T000000
END:STANDARD
END:VTIMEZONE
BEGIN:VEVENT
DTSTART;VALUE=DATE:20240201
DTEND;VALUE=DATE:20240203
DTSTAMP:20260419T184440
CREATED:20240205T195724Z
LAST-MODIFIED:20240205T223415Z
UID:67094-1706745600-1706918399@fpj.com.br
SUMMARY:MEETING NACIONAL SUB-18 E SUB-21
DESCRIPTION:
URL:https://fpj.com.br/calendario/meeting-nacional-sub-18-e-sub-21/
LOCATION:Parque Olímpico do Rio de Janeiro\, Av. Embaixador Abelardo Bueno\, 3401 - Barra da Tijuca\, Rio de Janeiro\, RJ\, 22775-040\, Brasil
CATEGORIES:Competição
END:VEVENT
END:VCALENDAR