BEGIN:VCALENDAR
VERSION:2.0
PRODID:-//FPJUDÔ - ECPv6.5.1.5//NONSGML v1.0//EN
CALSCALE:GREGORIAN
METHOD:PUBLISH
X-WR-CALNAME:FPJUDÔ
X-ORIGINAL-URL:https://fpj.com.br
X-WR-CALDESC:Eventos para FPJUDÔ
REFRESH-INTERVAL;VALUE=DURATION:PT1H
X-Robots-Tag:noindex
X-PUBLISHED-TTL:PT1H
BEGIN:VTIMEZONE
TZID:America/Sao_Paulo
BEGIN:STANDARD
TZOFFSETFROM:-0300
TZOFFSETTO:-0300
TZNAME:-03
DTSTART:20240101T000000
END:STANDARD
END:VTIMEZONE
BEGIN:VEVENT
DTSTART;VALUE=DATE:20240427
DTEND;VALUE=DATE:20240428
DTSTAMP:20260419T151910
CREATED:20240205T211423Z
LAST-MODIFIED:20240205T224052Z
UID:67134-1714176000-1714262399@fpj.com.br
SUMMARY:OPEN AJINOMOTO – DIVISÃO ESPECIAL
DESCRIPTION:
URL:https://fpj.com.br/calendario/open-ajinomoto-divisao-especial/
LOCATION:SP
CATEGORIES:Competição
END:VEVENT
END:VCALENDAR