BEGIN:VCALENDAR
VERSION:2.0
PRODID:-//FPJUDÔ - ECPv6.5.1.5//NONSGML v1.0//EN
CALSCALE:GREGORIAN
METHOD:PUBLISH
X-WR-CALNAME:FPJUDÔ
X-ORIGINAL-URL:https://fpj.com.br
X-WR-CALDESC:Eventos para FPJUDÔ
REFRESH-INTERVAL;VALUE=DURATION:PT1H
X-Robots-Tag:noindex
X-PUBLISHED-TTL:PT1H
BEGIN:VTIMEZONE
TZID:America/Sao_Paulo
BEGIN:STANDARD
TZOFFSETFROM:-0300
TZOFFSETTO:-0300
TZNAME:-03
DTSTART:20240101T000000
END:STANDARD
END:VTIMEZONE
BEGIN:VEVENT
DTSTART;TZID=America/Sao_Paulo:20240203T080000
DTEND;TZID=America/Sao_Paulo:20240203T170000
DTSTAMP:20260421T073107
CREATED:20240205T194936Z
LAST-MODIFIED:20240205T223506Z
UID:67091-1706947200-1706979600@fpj.com.br
SUMMARY:PADRONIZAÇÃO PALESTRANTES MÓDULOS
DESCRIPTION:
URL:https://fpj.com.br/calendario/padronizacao-palestrantes-modulos/
LOCATION:CAT – FPJUDÔ\, R. Airosa Galvão\, 45 - Água Branca\, São Paulo\, SP\, 05002-070\, Brasil
CATEGORIES:Padronização Palestrantes
END:VEVENT
END:VCALENDAR