BEGIN:VCALENDAR
VERSION:2.0
PRODID:-//FPJUDÔ - ECPv6.5.1.5//NONSGML v1.0//EN
CALSCALE:GREGORIAN
METHOD:PUBLISH
X-WR-CALNAME:FPJUDÔ
X-ORIGINAL-URL:https://fpj.com.br
X-WR-CALDESC:Eventos para FPJUDÔ
REFRESH-INTERVAL;VALUE=DURATION:PT1H
X-Robots-Tag:noindex
X-PUBLISHED-TTL:PT1H
BEGIN:VTIMEZONE
TZID:America/Sao_Paulo
BEGIN:STANDARD
TZOFFSETFROM:-0300
TZOFFSETTO:-0300
TZNAME:-03
DTSTART:20240101T000000
END:STANDARD
END:VTIMEZONE
BEGIN:VEVENT
DTSTART;VALUE=DATE:20240406
DTEND;VALUE=DATE:20240408
DTSTAMP:20260420T153945
CREATED:20240205T211210Z
LAST-MODIFIED:20240205T223908Z
UID:67128-1712361600-1712534399@fpj.com.br
SUMMARY:CAMPEONATO BRASILEIRO REGIÃO V
DESCRIPTION:
URL:https://fpj.com.br/calendario/campeonato-brasileiro-regiao-v/
LOCATION:São Paulo – SP\, São Paulo\, SP\, Brasil
CATEGORIES:Competição
END:VEVENT
BEGIN:VEVENT
DTSTART;VALUE=DATE:20240413
DTEND;VALUE=DATE:20240415
DTSTAMP:20260420T153945
CREATED:20240205T211317Z
LAST-MODIFIED:20240205T223933Z
UID:67130-1712966400-1713139199@fpj.com.br
SUMMARY:CAMPEONATO PAULISTA INTER REGIONAL SUB-8 E SUB-21
DESCRIPTION:
URL:https://fpj.com.br/calendario/campeonato-paulista-inter-regional-sub-8-sub-21/
LOCATION:SP
CATEGORIES:Competição
END:VEVENT
BEGIN:VEVENT
DTSTART;VALUE=DATE:20240414
DTEND;VALUE=DATE:20240415
DTSTAMP:20260420T153945
CREATED:20240205T220952Z
LAST-MODIFIED:20240205T223948Z
UID:67220-1713052800-1713139199@fpj.com.br
SUMMARY:TORNEIO ASSOCIAÇÃO MAKOTO - 15ª DR
DESCRIPTION:
URL:https://fpj.com.br/calendario/torneio-associacao-makoto-15a-dr/
LOCATION:Nazaré Paulista – SP\, Nazaré Paulista\, SP\, Brasil
CATEGORIES:Competição
END:VEVENT
BEGIN:VEVENT
DTSTART;VALUE=DATE:20240420
DTEND;VALUE=DATE:20240421
DTSTAMP:20260420T153945
CREATED:20240205T211347Z
LAST-MODIFIED:20240205T224020Z
UID:67132-1713571200-1713657599@fpj.com.br
SUMMARY:CAMPEONATO PAULISTA INTER REGIONAL SUB-8 E SUB-21
DESCRIPTION:
URL:https://fpj.com.br/calendario/campeonato-paulista-inter-regional-sub-8-sub-21-2/
LOCATION:SP
CATEGORIES:Competição
END:VEVENT
BEGIN:VEVENT
DTSTART;VALUE=DATE:20240421
DTEND;VALUE=DATE:20240422
DTSTAMP:20260420T153945
CREATED:20240205T221227Z
LAST-MODIFIED:20240205T224034Z
UID:67227-1713657600-1713743999@fpj.com.br
SUMMARY:TORNEIO SERRA NEGRA - 15ª DR
DESCRIPTION:
URL:https://fpj.com.br/calendario/torneio-serra-negra-15a-dr/
LOCATION:Serra Negra – SP\, Serra Negra\, SP\, Brasil
CATEGORIES:Competição
END:VEVENT
BEGIN:VEVENT
DTSTART;VALUE=DATE:20240427
DTEND;VALUE=DATE:20240428
DTSTAMP:20260420T153945
CREATED:20240205T211423Z
LAST-MODIFIED:20240205T224052Z
UID:67134-1714176000-1714262399@fpj.com.br
SUMMARY:OPEN AJINOMOTO – DIVISÃO ESPECIAL
DESCRIPTION:
URL:https://fpj.com.br/calendario/open-ajinomoto-divisao-especial/
LOCATION:SP
CATEGORIES:Competição
END:VEVENT
BEGIN:VEVENT
DTSTART;VALUE=DATE:20240504
DTEND;VALUE=DATE:20240505
DTSTAMP:20260420T153945
CREATED:20240205T211500Z
LAST-MODIFIED:20240205T224113Z
UID:67136-1714780800-1714867199@fpj.com.br
SUMMARY:CAMPEONATO PAULISTA FASE FINAL SUB-18
DESCRIPTION:
URL:https://fpj.com.br/calendario/campeonato-paulista-fase-final-sub-18/
LOCATION:SP
CATEGORIES:Competição
END:VEVENT
BEGIN:VEVENT
DTSTART;VALUE=DATE:20240505
DTEND;VALUE=DATE:20240506
DTSTAMP:20260420T153945
CREATED:20240205T221344Z
LAST-MODIFIED:20240205T224131Z
UID:67231-1714867200-1714953599@fpj.com.br
SUMMARY:TORNEIO JUDÔ MAKOTO - 15ª DR
DESCRIPTION:
URL:https://fpj.com.br/calendario/torneio-judo-makoto-15a-dr/
LOCATION:Jarinu – SP\, Jarinu\, SP\, Brasil
CATEGORIES:Competição
END:VEVENT
BEGIN:VEVENT
DTSTART;VALUE=DATE:20240511
DTEND;VALUE=DATE:20240512
DTSTAMP:20260420T153945
CREATED:20240205T211523Z
LAST-MODIFIED:20240205T224146Z
UID:67138-1715385600-1715471999@fpj.com.br
SUMMARY:CAMPEONATO PAULISTA FASE FINAL SUB-18
DESCRIPTION:
URL:https://fpj.com.br/calendario/campeonato-paulista-fase-final-sub-18-2/
LOCATION:SP
CATEGORIES:Competição
END:VEVENT
BEGIN:VEVENT
DTSTART;VALUE=DATE:20240518
DTEND;VALUE=DATE:20240519
DTSTAMP:20260420T153945
CREATED:20240205T211620Z
LAST-MODIFIED:20240205T224159Z
UID:67140-1715990400-1716076799@fpj.com.br
SUMMARY:CBI: TAÇA BRASIL DE JUDÔ SUB-21
DESCRIPTION:
URL:https://fpj.com.br/calendario/cbi-taca-brasil-de-judo-sub-21/
LOCATION:Curitiba – PR\, Curitiba\, PR\, Brasil
CATEGORIES:Competição
END:VEVENT
BEGIN:VEVENT
DTSTART;VALUE=DATE:20240518
DTEND;VALUE=DATE:20240519
DTSTAMP:20260420T153945
CREATED:20240205T211704Z
LAST-MODIFIED:20240205T232315Z
UID:67142-1715990400-1716076799@fpj.com.br
SUMMARY:OPEN AJINOMOTO - ASPIRANTE
DESCRIPTION:
URL:https://fpj.com.br/calendario/open-ajinomoto-aspirante/
LOCATION:SP
CATEGORIES:Competição
END:VEVENT
BEGIN:VEVENT
DTSTART;VALUE=DATE:20240519
DTEND;VALUE=DATE:20240520
DTSTAMP:20260420T153945
CREATED:20240205T211735Z
LAST-MODIFIED:20240205T224222Z
UID:67144-1716076800-1716163199@fpj.com.br
SUMMARY:OPEN CORINTHIANS
DESCRIPTION:
URL:https://fpj.com.br/calendario/open-corinthians/
LOCATION:SP
CATEGORIES:Competição
END:VEVENT
BEGIN:VEVENT
DTSTART;VALUE=DATE:20240525
DTEND;VALUE=DATE:20240526
DTSTAMP:20260420T153945
CREATED:20240205T211813Z
LAST-MODIFIED:20240205T224236Z
UID:67146-1716595200-1716681599@fpj.com.br
SUMMARY:COPA RIO GRANDE DO SUL DE JUDÔ
DESCRIPTION:
URL:https://fpj.com.br/calendario/copa-rio-grande-do-sul-de-judo/
LOCATION:SP
CATEGORIES:Competição
END:VEVENT
BEGIN:VEVENT
DTSTART;VALUE=DATE:20240525
DTEND;VALUE=DATE:20240526
DTSTAMP:20260420T153945
CREATED:20240205T211840Z
LAST-MODIFIED:20240205T224248Z
UID:67148-1716595200-1716681599@fpj.com.br
SUMMARY:CAMPEONATO PAULISTA POR FAIXAS
DESCRIPTION:
URL:https://fpj.com.br/calendario/campeonato-paulista-por-faixas/
LOCATION:SP
CATEGORIES:Competição
END:VEVENT
BEGIN:VEVENT
DTSTART;VALUE=DATE:20240601
DTEND;VALUE=DATE:20240603
DTSTAMP:20260420T153945
CREATED:20240205T211938Z
LAST-MODIFIED:20240205T224317Z
UID:67150-1717200000-1717372799@fpj.com.br
SUMMARY:CAMPEONATO BRASILEIRO SUB-18
DESCRIPTION:
URL:https://fpj.com.br/calendario/campeonato-brasileiro-sub-18/
LOCATION:Rio de Janeiro – RJ\, Rio de Janeiro\, RJ\, Brasil
CATEGORIES:Competição
END:VEVENT
BEGIN:VEVENT
DTSTART;VALUE=DATE:20240601
DTEND;VALUE=DATE:20240602
DTSTAMP:20260420T153945
CREATED:20240205T212015Z
LAST-MODIFIED:20240205T232158Z
UID:67152-1717200000-1717286399@fpj.com.br
SUMMARY:CAMPEONATO PAULISTA DE KATA
DESCRIPTION:
URL:https://fpj.com.br/calendario/campeonato-paulista-de-kata/
LOCATION:SP
CATEGORIES:Competição
END:VEVENT
BEGIN:VEVENT
DTSTART;VALUE=DATE:20240602
DTEND;VALUE=DATE:20240603
DTSTAMP:20260420T153945
CREATED:20240205T221506Z
LAST-MODIFIED:20240205T224332Z
UID:67235-1717286400-1717372799@fpj.com.br
SUMMARY:TORNEIO DE MOGI GUAÇU - 15ª DR
DESCRIPTION:
URL:https://fpj.com.br/calendario/torneio-de-mogi-guacu-15a-dr/
LOCATION:Mogi Guaçu – SP\, Mogi Guaçu\, SP\, Brasil
CATEGORIES:Competição
END:VEVENT
BEGIN:VEVENT
DTSTART;VALUE=DATE:20240608
DTEND;VALUE=DATE:20240609
DTSTAMP:20260420T153945
CREATED:20240205T212306Z
LAST-MODIFIED:20240205T224347Z
UID:67154-1717804800-1717891199@fpj.com.br
SUMMARY:TORNEIO BENEMÉRITOS DE JUDÔ DO BRASIL
DESCRIPTION:
URL:https://fpj.com.br/calendario/torneio-benemeritos-de-judo-do-brasil/
LOCATION:SP
CATEGORIES:Competição
END:VEVENT
BEGIN:VEVENT
DTSTART;VALUE=DATE:20240615
DTEND;VALUE=DATE:20240616
DTSTAMP:20260420T153945
CREATED:20240205T212351Z
LAST-MODIFIED:20240205T232241Z
UID:67156-1718409600-1718495999@fpj.com.br
SUMMARY:CAMPEONATO PAULISTA DE VETERANOS
DESCRIPTION:
URL:https://fpj.com.br/calendario/campeonato-paulista-de-veteranos/
LOCATION:SP
CATEGORIES:Competição
END:VEVENT
BEGIN:VEVENT
DTSTART;VALUE=DATE:20240616
DTEND;VALUE=DATE:20240617
DTSTAMP:20260420T153945
CREATED:20240205T221622Z
LAST-MODIFIED:20240205T224414Z
UID:67239-1718496000-1718582399@fpj.com.br
SUMMARY:TORNEIO A.C.J. - 15ª DR
DESCRIPTION:
URL:https://fpj.com.br/calendario/torneio-a-c-j-15a-dr/
LOCATION:Campinas – SP\, Campinas\, SP\, Brasil
CATEGORIES:Competição
END:VEVENT
BEGIN:VEVENT
DTSTART;VALUE=DATE:20240622
DTEND;VALUE=DATE:20240624
DTSTAMP:20260420T153945
CREATED:20240205T212451Z
LAST-MODIFIED:20240205T232313Z
UID:67158-1719014400-1719187199@fpj.com.br
SUMMARY:CAMPEONATO PAULISTA INTER REGIONAL SUB-15\, SENIOR\, SUB-13 (ASP)
DESCRIPTION:
URL:https://fpj.com.br/calendario/campeonato-paulista-inter-regional-sub-15-senior-e-sub-13/
LOCATION:SP
CATEGORIES:Competição
END:VEVENT
BEGIN:VEVENT
DTSTART;VALUE=DATE:20240623
DTEND;VALUE=DATE:20240624
DTSTAMP:20260420T153945
CREATED:20240205T221726Z
LAST-MODIFIED:20240205T224506Z
UID:67243-1719100800-1719187199@fpj.com.br
SUMMARY:TORNEIO JUDÔ CAMPINAS - 15ª DR
DESCRIPTION:
URL:https://fpj.com.br/calendario/torneio-judo-campinas-15a-dr/
LOCATION:Campinas – SP\, Campinas\, SP\, Brasil
CATEGORIES:Competição
END:VEVENT
BEGIN:VEVENT
DTSTART;VALUE=DATE:20240629
DTEND;VALUE=DATE:20240701
DTSTAMP:20260420T153945
CREATED:20240205T212531Z
LAST-MODIFIED:20240205T232313Z
UID:67160-1719619200-1719791999@fpj.com.br
SUMMARY:CAMPEONATO PAULISTA INTER REGIONAL SUB-15\, SENIOR\, SUB-13 (ASP)
DESCRIPTION:
URL:https://fpj.com.br/calendario/campeonato-paulista-inter-regional-sub-15-senior-e-sub-13-2/
LOCATION:SP
CATEGORIES:Competição
END:VEVENT
BEGIN:VEVENT
DTSTART;VALUE=DATE:20240629
DTEND;VALUE=DATE:20240701
DTSTAMP:20260420T153945
CREATED:20240205T212804Z
LAST-MODIFIED:20240205T224548Z
UID:67162-1719619200-1719791999@fpj.com.br
SUMMARY:CAMPEONATO BRASILEIRO SUB-21
DESCRIPTION:
URL:https://fpj.com.br/calendario/campeonato-brasileiro-sub-21/
LOCATION:Lauro de Freitas – BA\, Lauro de Freitas\, BA\, Brasil
CATEGORIES:Competição
END:VEVENT
BEGIN:VEVENT
DTSTART;VALUE=DATE:20240706
DTEND;VALUE=DATE:20240708
DTSTAMP:20260420T153945
CREATED:20240205T230626Z
LAST-MODIFIED:20240205T232202Z
UID:67344-1720224000-1720396799@fpj.com.br
SUMMARY:MÓDULO DE NAGE NO KATA
DESCRIPTION:
URL:https://fpj.com.br/calendario/modulo-de-nage-no-kata/
LOCATION:ACEP Pompéia\, Pompéia\, SP\, Brasil
CATEGORIES:Módulo de Nage No Kata
END:VEVENT
BEGIN:VEVENT
DTSTART;VALUE=DATE:20240713
DTEND;VALUE=DATE:20240714
DTSTAMP:20260420T153945
CREATED:20240205T221852Z
LAST-MODIFIED:20240205T224604Z
UID:67245-1720828800-1720915199@fpj.com.br
SUMMARY:TREINAMENTO ABERTO SELEÇÃO CANADÁ - 15ª DR
DESCRIPTION:
URL:https://fpj.com.br/calendario/treinamento-aberto-selecao-canada-15a-dr/
LOCATION:Campinas – SP\, Campinas\, SP\, Brasil
CATEGORIES:Treinamento Aberto
END:VEVENT
BEGIN:VEVENT
DTSTART;VALUE=DATE:20240714
DTEND;VALUE=DATE:20240715
DTSTAMP:20260420T153945
CREATED:20240205T221954Z
LAST-MODIFIED:20240205T224628Z
UID:67247-1720915200-1721001599@fpj.com.br
SUMMARY:DESAFIO 15ª DR E CANADÁ
DESCRIPTION:
URL:https://fpj.com.br/calendario/desafio-15a-dr-e-canada/
LOCATION:Campinas – SP\, Campinas\, SP\, Brasil
CATEGORIES:Competição
END:VEVENT
BEGIN:VEVENT
DTSTART;VALUE=DATE:20240727
DTEND;VALUE=DATE:20240729
DTSTAMP:20260420T153945
CREATED:20240205T213049Z
LAST-MODIFIED:20240205T224642Z
UID:67168-1722038400-1722211199@fpj.com.br
SUMMARY:TORNEIO DA BUDOKAN
DESCRIPTION:
URL:https://fpj.com.br/calendario/torneio-da-budokan/
LOCATION:SP
CATEGORIES:Competição
END:VEVENT
BEGIN:VEVENT
DTSTART;VALUE=DATE:20240803
DTEND;VALUE=DATE:20240804
DTSTAMP:20260420T153945
CREATED:20240205T213143Z
LAST-MODIFIED:20240205T224655Z
UID:67170-1722643200-1722729599@fpj.com.br
SUMMARY:CAMPEONATO PAULISTA FASE FINAL SENIOR
DESCRIPTION:
URL:https://fpj.com.br/calendario/campeonato-paulista-fase-final-senior/
LOCATION:SP
CATEGORIES:Competição
END:VEVENT
BEGIN:VEVENT
DTSTART;VALUE=DATE:20240804
DTEND;VALUE=DATE:20240805
DTSTAMP:20260420T153945
CREATED:20240205T222129Z
LAST-MODIFIED:20240205T224711Z
UID:67249-1722729600-1722815999@fpj.com.br
SUMMARY:TORNEIO SEL ITAPIRA - 15ª DR
DESCRIPTION:
URL:https://fpj.com.br/calendario/torneio-sel-itapira-15a-dr/
LOCATION:Itapira – SP\, Itapira\, SP\, Brasil
CATEGORIES:Competição
END:VEVENT
END:VCALENDAR